BEGIN:VCALENDAR
VERSION:2.0
PRODID:-//EFG Nievenheim - ECPv6.13.2.1//NONSGML v1.0//EN
CALSCALE:GREGORIAN
METHOD:PUBLISH
X-WR-CALNAME:EFG Nievenheim
X-ORIGINAL-URL:https://efg-nievenheim.de
X-WR-CALDESC:Veranstaltungen für EFG Nievenheim
REFRESH-INTERVAL;VALUE=DURATION:PT1H
X-Robots-Tag:noindex
X-PUBLISHED-TTL:PT1H
BEGIN:VTIMEZONE
TZID:Europe/Berlin
BEGIN:DAYLIGHT
TZOFFSETFROM:+0100
TZOFFSETTO:+0200
TZNAME:CEST
DTSTART:20250330T010000
END:DAYLIGHT
BEGIN:STANDARD
TZOFFSETFROM:+0200
TZOFFSETTO:+0100
TZNAME:CET
DTSTART:20251026T010000
END:STANDARD
END:VTIMEZONE
BEGIN:VEVENT
DTSTART;TZID=Europe/Berlin:20250508T103000
DTEND;TZID=Europe/Berlin:20250508T120000
DTSTAMP:20260421T160140
CREATED:20231101T111010Z
LAST-MODIFIED:20250701T154455Z
UID:24301-1746700200-1746705600@efg-nievenheim.de
SUMMARY:Predigt
DESCRIPTION:
URL:https://efg-nievenheim.de/termin/gebet-fuer-verfolgte-christen-die-wichtigste-unterstuetzung-die-wir-geben-koennen/
CATEGORIES:Termin
ATTACH;FMTTYPE=image/jpeg:https://efg-nievenheim.de/wp-content/uploads/2023/11/aaron-burden-nDeo4F3Zq28-unsplash-scaled.jpg
END:VEVENT
END:VCALENDAR