BEGIN:VCALENDAR
VERSION:2.0
PRODID:-//EFG Nievenheim - ECPv6.13.2.1//NONSGML v1.0//EN
CALSCALE:GREGORIAN
METHOD:PUBLISH
X-WR-CALNAME:EFG Nievenheim
X-ORIGINAL-URL:https://efg-nievenheim.de
X-WR-CALDESC:Veranstaltungen für EFG Nievenheim
REFRESH-INTERVAL;VALUE=DURATION:PT1H
X-Robots-Tag:noindex
X-PUBLISHED-TTL:PT1H
BEGIN:VTIMEZONE
TZID:Europe/Berlin
BEGIN:DAYLIGHT
TZOFFSETFROM:+0100
TZOFFSETTO:+0200
TZNAME:CEST
DTSTART:20230326T010000
END:DAYLIGHT
BEGIN:STANDARD
TZOFFSETFROM:+0200
TZOFFSETTO:+0100
TZNAME:CET
DTSTART:20231029T010000
END:STANDARD
END:VTIMEZONE
BEGIN:VEVENT
DTSTART;TZID=Europe/Berlin:20231112T103000
DTEND;TZID=Europe/Berlin:20231112T120000
DTSTAMP:20260424T023936
CREATED:20230824T143810Z
LAST-MODIFIED:20231102T092626Z
UID:24270-1699785000-1699790400@efg-nievenheim.de
SUMMARY:Weltweiter Gebetstag für verfolgte Christen – Indien (Teil 1)
DESCRIPTION:Wir werden Teil einer weltweiten Gebetsbewegung\, \nGebet für verfolgte Christen – Die wichtigste Unterstützung\, die wir geben können!
URL:https://efg-nievenheim.de/termin/der-brief-an-die-roemer-2/
CATEGORIES:Termin
ATTACH;FMTTYPE=image/png:https://efg-nievenheim.de/wp-content/uploads/2023/08/csm_WVI2021_025a84c443.png
END:VEVENT
END:VCALENDAR