BEGIN:VCALENDAR
VERSION:2.0
PRODID:-//EFG Nievenheim - ECPv6.13.2.1//NONSGML v1.0//EN
CALSCALE:GREGORIAN
METHOD:PUBLISH
X-WR-CALNAME:EFG Nievenheim
X-ORIGINAL-URL:https://efg-nievenheim.de
X-WR-CALDESC:Veranstaltungen für EFG Nievenheim
REFRESH-INTERVAL;VALUE=DURATION:PT1H
X-Robots-Tag:noindex
X-PUBLISHED-TTL:PT1H
BEGIN:VTIMEZONE
TZID:Europe/Berlin
BEGIN:DAYLIGHT
TZOFFSETFROM:+0100
TZOFFSETTO:+0200
TZNAME:CEST
DTSTART:20250330T010000
END:DAYLIGHT
BEGIN:STANDARD
TZOFFSETFROM:+0200
TZOFFSETTO:+0100
TZNAME:CET
DTSTART:20251026T010000
END:STANDARD
END:VTIMEZONE
BEGIN:VEVENT
DTSTART;TZID=Europe/Berlin:20250629T110000
DTEND;TZID=Europe/Berlin:20250629T163000
DTSTAMP:20260422T105656
CREATED:20230719T110516Z
LAST-MODIFIED:20250521T153227Z
UID:24229-1751194800-1751214600@efg-nievenheim.de
SUMMARY:Herzliche Einladung zu unserem alljährlichen Gemeinde-Sommerfest
DESCRIPTION:Am Sonntag\, den 29.6. laden wir herzlich zum diesjährigen Sommerfest ein. Egal\, ob Du mit Kirche oder Glaube etwas zu tun hast oder einfach nur mal eine Freikirche kennenlernen möchtest – komme gerne vorbei! \nUm 11:00 Uhr starten wir mit einem inspirierenden Gottesdienst. Ab 12:00 Uhr wird mit netten Menschen\, Grillen und jede Menge Essen\, gefeiert. Für die Kinder haben wir draußen eine große Hüpfburg aufgebaut.
URL:https://efg-nievenheim.de/termin/herzliche-einladung-zu-unserem-alljaehrlichen-gemeinde-sommerfest/
CATEGORIES:Termin
ATTACH;FMTTYPE=image/jpeg:https://efg-nievenheim.de/wp-content/uploads/2023/07/20250521_Einladung-Web-Sommerfest.jpg
END:VEVENT
END:VCALENDAR